BEGIN:VCALENDAR
VERSION:2.0
PRODID:-//Danske Filminstruktører - ECPv6.15.17//NONSGML v1.0//EN
CALSCALE:GREGORIAN
METHOD:PUBLISH
X-WR-CALNAME:Danske Filminstruktører
X-ORIGINAL-URL:https://filmdir.dk
X-WR-CALDESC:Begivenheder for Danske Filminstruktører
REFRESH-INTERVAL;VALUE=DURATION:PT1H
X-Robots-Tag:noindex
X-PUBLISHED-TTL:PT1H
BEGIN:VTIMEZONE
TZID:Europe/Copenhagen
BEGIN:DAYLIGHT
TZOFFSETFROM:+0100
TZOFFSETTO:+0200
TZNAME:CEST
DTSTART:20250330T010000
END:DAYLIGHT
BEGIN:STANDARD
TZOFFSETFROM:+0200
TZOFFSETTO:+0100
TZNAME:CET
DTSTART:20251026T010000
END:STANDARD
BEGIN:DAYLIGHT
TZOFFSETFROM:+0100
TZOFFSETTO:+0200
TZNAME:CEST
DTSTART:20260329T010000
END:DAYLIGHT
BEGIN:STANDARD
TZOFFSETFROM:+0200
TZOFFSETTO:+0100
TZNAME:CET
DTSTART:20261025T010000
END:STANDARD
BEGIN:DAYLIGHT
TZOFFSETFROM:+0100
TZOFFSETTO:+0200
TZNAME:CEST
DTSTART:20270328T010000
END:DAYLIGHT
BEGIN:STANDARD
TZOFFSETFROM:+0200
TZOFFSETTO:+0100
TZNAME:CET
DTSTART:20271031T010000
END:STANDARD
END:VTIMEZONE
BEGIN:VEVENT
DTSTART;TZID=Europe/Copenhagen:20260423T153000
DTEND;TZID=Europe/Copenhagen:20260423T173000
DTSTAMP:20260423T131720
CREATED:20260413T132712Z
LAST-MODIFIED:20260413T132712Z
UID:48527-1776958200-1776965400@filmdir.dk
SUMMARY:Town Hall — Markedsføring i en ændret tid med Alphapanda
DESCRIPTION:
URL:https://filmdir.dk/event/town-hall-markedsfoering-i-en-aendret-tid-med-alphapanda/
LOCATION:Det Danske Filminstitut\, Gothersgade 55\, København K\, 1123\, Denmark
END:VEVENT
BEGIN:VEVENT
DTSTART;TZID=Europe/Copenhagen:20260506T090000
DTEND;TZID=Europe/Copenhagen:20260506T153000
DTSTAMP:20260423T131720
CREATED:20260216T114816Z
LAST-MODIFIED:20260216T125159Z
UID:48355-1778058000-1778081400@filmdir.dk
SUMMARY:Artbeat Konferencen
DESCRIPTION:HAVE Kommunikation\, Roskilde Universitet og Kulturmonitor inviterer til Artbeat Konferencen 2026\, 6. maj 2026 kl. 09.00-15.30 i Pressen\, JP/Politikens Hus. Som medlem af en organisation under Dansk Kunstnerråd får du 50% på billetprisen. \nArtbeat Konferencen samler kulturformidlere\, forskere og aktører fra kultur-\, medie- og oplevelsesbranchen for at styrke dialogen og debattere fremtidens kulturformidling. I år sætter konferencen fokus på kulturens gennemslag og vilkår i et landskab præget af teknologi\, tempo og nye magtstrukturer: Hvad betyder AI for fremtidens kulturformidling – og hvem har magten til at forme vores fælles fortællinger? Hvilken påvirkning har influencers\, nye medier og techgiganter på vores måde at forstå\, formidle og prioritere kunst og kultur på? Hvordan sikrer vi\, at vores kulturformidling fortsat er troværdig og ansvarlig? Og stiger behovet for et mere aktivistisk kulturliv? … og så sætter vi naturligvis fokus på kulturel og åndelig oprustning. Programmet offentliggøres løbende. Som medlem af en organisation under Dansk Kunstråd gives der 50% på billetten (normalpris 750 kr. inkl. gebyrer).
URL:https://filmdir.dk/event/artbeat-konferencen/
LOCATION:Politikens Hus\, Rådhuspladsen 37\, København\, 1785\, Denmark
CATEGORIES:Brancheevents
END:VEVENT
BEGIN:VEVENT
DTSTART;VALUE=DATE:20260519
DTEND;VALUE=DATE:20260520
DTSTAMP:20260423T131720
CREATED:20260115T092029Z
LAST-MODIFIED:20260115T092029Z
UID:48262-1779148800-1779235199@filmdir.dk
SUMMARY:Bestyrelsesmøde i Danske Filminstruktører
DESCRIPTION:
URL:https://filmdir.dk/event/bestyrelsesmoede-i-danske-filminstruktoerer-4/
LOCATION:Danske Filminstruktører\, Linnésgade 25\, København K\, 1361\, Denmark
CATEGORIES:Bestyrelsesmøder
END:VEVENT
BEGIN:VEVENT
DTSTART;VALUE=DATE:20260617
DTEND;VALUE=DATE:20260618
DTSTAMP:20260423T131720
CREATED:20260115T092157Z
LAST-MODIFIED:20260115T092157Z
UID:48264-1781654400-1781740799@filmdir.dk
SUMMARY:Bestyrelsesmøde i Danske Filminstruktører
DESCRIPTION:
URL:https://filmdir.dk/event/bestyrelsesmoede-i-danske-filminstruktoerer-5/
LOCATION:Danske Filminstruktører\, Linnésgade 25\, København K\, 1361\, Denmark
CATEGORIES:Bestyrelsesmøder
END:VEVENT
BEGIN:VEVENT
DTSTART;VALUE=DATE:20260818
DTEND;VALUE=DATE:20260819
DTSTAMP:20260423T131720
CREATED:20260115T092320Z
LAST-MODIFIED:20260115T092320Z
UID:48266-1787011200-1787097599@filmdir.dk
SUMMARY:Bestyrelsesmøde i Danske Filminstruktører
DESCRIPTION:
URL:https://filmdir.dk/event/bestyrelsesmoede-i-danske-filminstruktoerer-6/
LOCATION:Danske Filminstruktører\, Linnésgade 25\, København K\, 1361\, Denmark
CATEGORIES:Bestyrelsesmøder
END:VEVENT
BEGIN:VEVENT
DTSTART;VALUE=DATE:20260915
DTEND;VALUE=DATE:20260916
DTSTAMP:20260423T131720
CREATED:20260115T092404Z
LAST-MODIFIED:20260115T092404Z
UID:48268-1789430400-1789516799@filmdir.dk
SUMMARY:Bestyrelsesmøde i Danske Filminstruktører
DESCRIPTION:
URL:https://filmdir.dk/event/bestyrelsesmoede-i-danske-filminstruktoerer-7/
LOCATION:Danske Filminstruktører\, Linnésgade 25\, København K\, 1361\, Denmark
CATEGORIES:Bestyrelsesmøder
END:VEVENT
BEGIN:VEVENT
DTSTART;VALUE=DATE:20261020
DTEND;VALUE=DATE:20261021
DTSTAMP:20260423T131720
CREATED:20260115T092457Z
LAST-MODIFIED:20260115T092457Z
UID:48270-1792454400-1792540799@filmdir.dk
SUMMARY:Bestyrelsesmøde i Danske Filminstruktører
DESCRIPTION:
URL:https://filmdir.dk/event/bestyrelsesmoede-i-danske-filminstruktoerer-8/
LOCATION:Danske Filminstruktører\, Linnésgade 25\, København K\, 1361\, Denmark
CATEGORIES:Bestyrelsesmøder
END:VEVENT
BEGIN:VEVENT
DTSTART;VALUE=DATE:20261117
DTEND;VALUE=DATE:20261118
DTSTAMP:20260423T131720
CREATED:20260115T092554Z
LAST-MODIFIED:20260115T092554Z
UID:48272-1794873600-1794959999@filmdir.dk
SUMMARY:Bestyrelsesmøde i Danske Filminstruktører
DESCRIPTION:
URL:https://filmdir.dk/event/bestyrelsesmoede-i-danske-filminstruktoerer-9/
LOCATION:Danske Filminstruktører\, Linnésgade 25\, København K\, 1361\, Denmark
CATEGORIES:Bestyrelsesmøder
END:VEVENT
BEGIN:VEVENT
DTSTART;VALUE=DATE:20261210
DTEND;VALUE=DATE:20261211
DTSTAMP:20260423T131720
CREATED:20260115T092647Z
LAST-MODIFIED:20260115T092647Z
UID:48274-1796860800-1796947199@filmdir.dk
SUMMARY:Bestyrelsesmøde i Danske Filminstruktører
DESCRIPTION:
URL:https://filmdir.dk/event/bestyrelsesmoede-i-danske-filminstruktoerer-10/
LOCATION:Danske Filminstruktører\, Linnésgade 25\, København K\, 1361\, Denmark
CATEGORIES:Bestyrelsesmøder
END:VEVENT
END:VCALENDAR